BEGIN:VCALENDAR
PRODID:-//PUBBLE//enter agenda//NL
VERSION:2.0
METHOD:PUBLISH
BEGIN:VEVENT
DTSTART:20250611T181500Z
DTEND:20250611T210000Z
DTSTAMP:20260421T092851Z
UID:5a5a370a-5f95-4b2a-9c4c-d554405b9399
CREATED:20260421T092851Z
URL:https://www.weespfoto.nl/agenda/item/331645
NAME:Finale City Quiz weespfoto.nl
X-WR-CALNAME:Finale City Quiz weespfoto.nl
X-ALT-DESC;FMTTYPE=text/html:<a href='https://www.weespfoto.nl/agenda/item//331645'>https://weespfoto.nl/agenda/item//331645</a> || <p>Speciale seizoensafsluiting van de gezellige pub quiz in de City of Wesopa</p><p>Voor wie het vergat of niet weet: teams van vijf personen buigen zich over zo’n 80 vragen per avond.&nbsp;</p>
DESCRIPTION:<a href='https://www.weespfoto.nl/agenda/item//331645'>https://www.weespfoto.nl/agenda/item//331645</a> || Speciale seizoensafsluiting van de gezellige pub quiz in de City of WesopaVoor wie het vergat of niet weet: teams van vijf personen buigen zich over zo’n 80 vragen per avond. 
LAST-MODIFIED:20260421T092851Z
LOCATION:City of Wesopa Herengracht 23 Herengracht 23 1382ag Weesp
SEQUENCE:0
STATUS:CONFIRMED
SUMMARY:Finale City Quiz
TRANSP:OPAQUE
END:VEVENT
END:VCALENDAR
