BEGIN:VCALENDAR
PRODID:-//PUBBLE//enter agenda//NL
VERSION:2.0
METHOD:PUBLISH
BEGIN:VEVENT
DTSTART:20240204T083000Z
DTEND:20240204T100000Z
DTSTAMP:20260422T025454Z
UID:0c43fea7-cbf6-413b-bf99-cbceabd973ea
CREATED:20260422T025454Z
URL:https://www.weespfoto.nl/agenda/item/331888
NAME:Ontmoeting en bezinning weespfoto.nl
X-WR-CALNAME:Ontmoeting en bezinning weespfoto.nl
X-ALT-DESC;FMTTYPE=text/html:<a href='https://www.weespfoto.nl/agenda/item//331888'>https://weespfoto.nl/agenda/item//331888</a> || <p>Op deze ochtend wil Irene van den Berg u meenemen op een bijzondere reis. Een reis over water, maar dan op een andere manier. Voor ons is water iets gewoons. Maar wat is water echt? Kan water dingen onthouden en nog wat verder, kan water denken?</p>
DESCRIPTION:<a href='https://www.weespfoto.nl/agenda/item//331888'>https://www.weespfoto.nl/agenda/item//331888</a> || Op deze ochtend wil Irene van den Berg u meenemen op een bijzondere reis. Een reis over water, maar dan op een andere manier. Voor ons is water iets gewoons. Maar wat is water echt? Kan water dingen onthouden en nog wat verder, kan water denken?
LAST-MODIFIED:20260422T025454Z
LOCATION:De Engel-Vrijzinnig Huizen César Francklaan 13 1272ec Huizen
SEQUENCE:0
STATUS:CONFIRMED
SUMMARY:Ontmoeting en bezinning
TRANSP:OPAQUE
END:VEVENT
END:VCALENDAR
