BEGIN:VCALENDAR
PRODID:-//PUBBLE//enter agenda//NL
VERSION:2.0
METHOD:PUBLISH
BEGIN:VEVENT
DTSTART:20240203T105500Z
DTEND:20250106T105500Z
DTSTAMP:20260421T172134Z
UID:84606968-875b-4a3a-9927-a597d994155f
CREATED:20260421T172134Z
URL:https://www.weespfoto.nl/agenda/item/332124
NAME:Koffie, thee en praatje weespfoto.nl
X-WR-CALNAME:Koffie, thee en praatje weespfoto.nl
X-ALT-DESC;FMTTYPE=text/html:<a href='https://www.weespfoto.nl/agenda/item//332124'>https://weespfoto.nl/agenda/item//332124</a> || <p>Dinsdag t/m/ vrijdag, elke week:&nbsp;</p><p>Koffie, thee en een praatje.</p><p>10.30 - 15.30 | Regentesse 98</p><p>Inloophuis Herberg Tolvrij</p><p>https://tolvrij.nl&nbsp; (Zie agenda)</p><p>Samen zijn tegen eenzaamheid</p>
DESCRIPTION:<a href='https://www.weespfoto.nl/agenda/item//332124'>https://www.weespfoto.nl/agenda/item//332124</a> || Dinsdag t/m/ vrijdag, elke week: Koffie, thee en een praatje.10.30 - 15.30 | Regentesse 98Inloophuis Herberg Tolvrijhttps://tolvrij.nl  (Zie agenda)Samen zijn tegen eenzaamheid
LAST-MODIFIED:20260421T172134Z
LOCATION:    
SEQUENCE:0
STATUS:CONFIRMED
SUMMARY:Koffie, thee en praatje
TRANSP:OPAQUE
END:VEVENT
END:VCALENDAR
