BEGIN:VCALENDAR
PRODID:-//PUBBLE//enter agenda//NL
VERSION:2.0
METHOD:PUBLISH
BEGIN:VEVENT
DTSTART:20240622T140000Z
DTEND:20240622T180000Z
DTSTAMP:20260423T100440Z
UID:15a97fd4-0f9e-4cf8-99d0-c4defcd40fac
CREATED:20260423T100440Z
URL:https://www.weespfoto.nl/agenda/item/336716
NAME:Benefiet Drakenbootrace weespfoto.nl
X-WR-CALNAME:Benefiet Drakenbootrace weespfoto.nl
X-ALT-DESC;FMTTYPE=text/html:<a href='https://www.weespfoto.nl/agenda/item//336716'>https://weespfoto.nl/agenda/item//336716</a> || <p>Spectaculaire Drakenbootrace en Badeendjesrace voor het Goede Doel!</p><p>Roei met jouw team een vakantie bij elkaar voor gezinnen van de Voedselbank Hilversum.</p><p>Of doe mee met de badeendenrace, waarbij 3.000 eendjes in het Hilversums kanaal gaan zwemmen.</p><p>Info:&nbsp;www.rotary.nl/hilversumwest/drakenbootrace</p>
DESCRIPTION:<a href='https://www.weespfoto.nl/agenda/item//336716'>https://www.weespfoto.nl/agenda/item//336716</a> || Spectaculaire Drakenbootrace en Badeendjesrace voor het Goede Doel!Roei met jouw team een vakantie bij elkaar voor gezinnen van de Voedselbank Hilversum.Of doe mee met de badeendenrace, waarbij 3.000 eendjes in het Hilversums kanaal gaan zwemmen.Info: www.rotary.nl/hilversumwest/drakenbootrace
LAST-MODIFIED:20260423T100440Z
LOCATION:    
SEQUENCE:0
STATUS:CONFIRMED
SUMMARY:Benefiet Drakenbootrace
TRANSP:OPAQUE
END:VEVENT
END:VCALENDAR
