BEGIN:VCALENDAR
PRODID:-//PUBBLE//enter agenda//NL
VERSION:2.0
METHOD:PUBLISH
BEGIN:VEVENT
DTSTART:20240623T120000Z
DTEND:20240623T140000Z
DTSTAMP:20260423T162312Z
UID:f04bfff8-5b2e-4857-b658-a1e83f747646
CREATED:20260423T162312Z
URL:https://www.weespfoto.nl/agenda/item/336817
NAME:Architectuurwandeling weespfoto.nl
X-WR-CALNAME:Architectuurwandeling weespfoto.nl
X-ALT-DESC;FMTTYPE=text/html:<a href='https://www.weespfoto.nl/agenda/item//336817'>https://weespfoto.nl/agenda/item//336817</a> || <p>Architectuurwandeling Bloemenbuurt</p>
DESCRIPTION:<a href='https://www.weespfoto.nl/agenda/item//336817'>https://www.weespfoto.nl/agenda/item//336817</a> || Architectuurwandeling Bloemenbuurt
LAST-MODIFIED:20260423T162312Z
LOCATION:Dudok Architectuur Centrum Dudokpark 1 1217JE Hilversum
SEQUENCE:0
STATUS:CONFIRMED
SUMMARY:Architectuurwandeling
TRANSP:OPAQUE
END:VEVENT
END:VCALENDAR
