BEGIN:VCALENDAR
PRODID:-//PUBBLE//enter agenda//NL
VERSION:2.0
METHOD:PUBLISH
BEGIN:VEVENT
DTSTART:20240621T110000Z
DTEND:20240621T130000Z
DTSTAMP:20260422T195811Z
UID:d0693e06-153c-43c7-b74c-dfff5f6ea010
CREATED:20260422T195811Z
URL:https://www.weespfoto.nl/agenda/item/336821
NAME:Fietstocht weespfoto.nl
X-WR-CALNAME:Fietstocht weespfoto.nl
X-ALT-DESC;FMTTYPE=text/html:<a href='https://www.weespfoto.nl/agenda/item//336821'>https://weespfoto.nl/agenda/item//336821</a> || <p>Fietstocht Nieuwe Bouwen – een verrassende tocht lang Hilversumse monumenten uit het Interbellum</p>
DESCRIPTION:<a href='https://www.weespfoto.nl/agenda/item//336821'>https://www.weespfoto.nl/agenda/item//336821</a> || Fietstocht Nieuwe Bouwen – een verrassende tocht lang Hilversumse monumenten uit het Interbellum
LAST-MODIFIED:20260422T195811Z
LOCATION:Dudok Architectuur Centrum Dudokpark 1 1217JE Hilversum
SEQUENCE:0
STATUS:CONFIRMED
SUMMARY:Fietstocht
TRANSP:OPAQUE
END:VEVENT
END:VCALENDAR
