BEGIN:VCALENDAR
PRODID:-//PUBBLE//enter agenda//NL
VERSION:2.0
METHOD:PUBLISH
BEGIN:VEVENT
DTSTART:20260401T060000Z
DTEND:20261202T090000Z
DTSTAMP:20260424T055100Z
UID:c4bd4faf-1536-433e-a6d8-09608ef8430f
CREATED:20260424T055100Z
URL:https://www.weespfoto.nl/agenda/item/337004
NAME:Praatgroep weespfoto.nl
X-WR-CALNAME:Praatgroep weespfoto.nl
X-ALT-DESC;FMTTYPE=text/html:<a href='https://www.weespfoto.nl/agenda/item//337004'>https://weespfoto.nl/agenda/item//337004</a> || <p>Praatgroep</p><p>Door: de Stichting Vrouwen van Weesp op Van Houten Industriepark 11B.</p>
DESCRIPTION:<a href='https://www.weespfoto.nl/agenda/item//337004'>https://www.weespfoto.nl/agenda/item//337004</a> || PraatgroepDoor: de Stichting Vrouwen van Weesp op Van Houten Industriepark 11B.
LAST-MODIFIED:20260424T055100Z
LOCATION:Maatschappelijk Ontmoetings Punt van Houten Industriepark 11 B 1381mz Weesp
SEQUENCE:0
STATUS:CONFIRMED
SUMMARY:Praatgroep
TRANSP:OPAQUE
END:VEVENT
END:VCALENDAR
