BEGIN:VCALENDAR
PRODID:-//PUBBLE//enter agenda//NL
VERSION:2.0
METHOD:PUBLISH
BEGIN:VEVENT
DTSTART:20240620T173000Z
DTEND:20240620T193000Z
DTSTAMP:20260422T153142Z
UID:2d325e6d-4930-4795-a84f-58b8d6fa2764
CREATED:20260422T153142Z
URL:https://www.weespfoto.nl/agenda/item/337275
NAME:SOUND HEALING/KLANKHEALING weespfoto.nl
X-WR-CALNAME:SOUND HEALING/KLANKHEALING weespfoto.nl
X-ALT-DESC;FMTTYPE=text/html:<a href='https://www.weespfoto.nl/agenda/item//337275'>https://weespfoto.nl/agenda/item//337275</a> || <p>Deze prachtige reis van helende klanken en stem, neemt je mee om de pijn, angst, woede, zorgen, oude overtuigingen los te laten en meer ruimte in het hart te creëren om liefde, vreugde en vrede in je leven te manifesteren.Kosten: € 35&nbsp;</p><p>Info &amp; inschrijven: www.goncagurses.com &nbsp;harmony@goncagurses.com</p>
DESCRIPTION:<a href='https://www.weespfoto.nl/agenda/item//337275'>https://www.weespfoto.nl/agenda/item//337275</a> || Deze prachtige reis van helende klanken en stem, neemt je mee om de pijn, angst, woede, zorgen, oude overtuigingen los te laten en meer ruimte in het hart te creëren om liefde, vreugde en vrede in je leven te manifesteren.Kosten: € 35 Info & inschrijven: www.goncagurses.com  harmony@goncagurses.com
LAST-MODIFIED:20260422T153142Z
LOCATION:Kenkokai & Mieru, Centrum voor Body, Mind & Spirit Vogelkersberg 5E 3755bn Eemnes
SEQUENCE:0
STATUS:CONFIRMED
SUMMARY:SOUND HEALING/KLANKHEALING
TRANSP:OPAQUE
END:VEVENT
END:VCALENDAR
