BEGIN:VCALENDAR
PRODID:-//PUBBLE//enter agenda//NL
VERSION:2.0
METHOD:PUBLISH
BEGIN:VEVENT
DTSTART:20240622T130000Z
DTEND:20240622T140000Z
DTSTAMP:20260423T083057Z
UID:e773d803-6d95-4938-932c-786cb8b28f1b
CREATED:20260423T083057Z
URL:https://www.weespfoto.nl/agenda/item/337418
NAME:Presentatie foto en beeld weespfoto.nl
X-WR-CALNAME:Presentatie foto en beeld weespfoto.nl
X-ALT-DESC;FMTTYPE=text/html:<a href='https://www.weespfoto.nl/agenda/item//337418'>https://weespfoto.nl/agenda/item//337418</a> || <p>De presentatie zaterdag 22 juni om 15.00 uur van de fotografie van Françoise Vaal en de beelden van Tonny de Brouwer in De Kleine Toonzaal, Voorbaan 25, Huizen. Meer informatie <a href="//www.dekleinetoonzaal.nl">www.dekleinetoonzaal.nl</a>. Expositie is te zien van 17 juni t/m 13 juli 2024.</p>
DESCRIPTION:<a href='https://www.weespfoto.nl/agenda/item//337418'>https://www.weespfoto.nl/agenda/item//337418</a> || De presentatie zaterdag 22 juni om 15.00 uur van de fotografie van Françoise Vaal en de beelden van Tonny de Brouwer in De Kleine Toonzaal, Voorbaan 25, Huizen. Meer informatie www.dekleinetoonzaal.nl. Expositie is te zien van 17 juni t/m 13 juli 2024.
LAST-MODIFIED:20260423T083057Z
LOCATION:    
SEQUENCE:0
STATUS:CONFIRMED
SUMMARY:Presentatie foto en beeld
TRANSP:OPAQUE
END:VEVENT
END:VCALENDAR
