BEGIN:VCALENDAR
PRODID:-//PUBBLE//enter agenda//NL
VERSION:2.0
METHOD:PUBLISH
BEGIN:VEVENT
DTSTART:20240620T180000Z
DTEND:20240620T203000Z
DTSTAMP:20260422T164555Z
UID:33707479-d94c-4312-a4d5-2be0df018f19
CREATED:20260422T164555Z
URL:https://www.weespfoto.nl/agenda/item/337505
NAME:FILM Radical weespfoto.nl
X-WR-CALNAME:FILM Radical weespfoto.nl
X-ALT-DESC;FMTTYPE=text/html:<a href='https://www.weespfoto.nl/agenda/item//337505'>https://weespfoto.nl/agenda/item//337505</a> || <p>Sergio Correa komt vol goede moed aan op zijn nieuwe school in een Mexicaans dorp. Het klimaat om de jongeren iets te leren ontbreekt. De regio wordt geteisterd door bendes, de kinderen komen vaak uit moeilijke thuissituaties en behalen de laagste testscores van het land. </p>
DESCRIPTION:<a href='https://www.weespfoto.nl/agenda/item//337505'>https://www.weespfoto.nl/agenda/item//337505</a> || Sergio Correa komt vol goede moed aan op zijn nieuwe school in een Mexicaans dorp. Het klimaat om de jongeren iets te leren ontbreekt. De regio wordt geteisterd door bendes, de kinderen komen vaak uit moeilijke thuissituaties en behalen de laagste testscores van het land. 
LAST-MODIFIED:20260422T164555Z
LOCATION:City of Wesopa Herengracht 23 Herengracht 23 1382ag Weesp
SEQUENCE:0
STATUS:CONFIRMED
SUMMARY:FILM Radical
TRANSP:OPAQUE
END:VEVENT
END:VCALENDAR
