BEGIN:VCALENDAR
PRODID:-//PUBBLE//enter agenda//NL
VERSION:2.0
METHOD:PUBLISH
BEGIN:VEVENT
DTSTART:20240623T090000Z
DTEND:20240623T110000Z
DTSTAMP:20260423T130649Z
UID:8a785d5e-a5df-4b2e-b899-7dd64555e259
CREATED:20260423T130649Z
URL:https://www.weespfoto.nl/agenda/item/337507
NAME:Kung Fu Panda 4 (6+) weespfoto.nl
X-WR-CALNAME:Kung Fu Panda 4 (6+) weespfoto.nl
X-ALT-DESC;FMTTYPE=text/html:<a href='https://www.weespfoto.nl/agenda/item//337507'>https://weespfoto.nl/agenda/item//337507</a> || <p>Na drie levensgevaarlijke avonturen, waarin hij de grootste schurken ter wereld verslaat met zijn ongekende moed en waanzinnige vechtkunsten, wacht Po, de Drakenkrijger een nieuwe roeping. Dit keer iets veel rustigers, want hij is verkozen tot spiritueel leider van de Vredesvallei. </p>
DESCRIPTION:<a href='https://www.weespfoto.nl/agenda/item//337507'>https://www.weespfoto.nl/agenda/item//337507</a> || Na drie levensgevaarlijke avonturen, waarin hij de grootste schurken ter wereld verslaat met zijn ongekende moed en waanzinnige vechtkunsten, wacht Po, de Drakenkrijger een nieuwe roeping. Dit keer iets veel rustigers, want hij is verkozen tot spiritueel leider van de Vredesvallei. 
LAST-MODIFIED:20260423T130649Z
LOCATION:City of Wesopa Herengracht 23 Herengracht 23 1382ag Weesp
SEQUENCE:0
STATUS:CONFIRMED
SUMMARY:Kung Fu Panda 4 (6+)
TRANSP:OPAQUE
END:VEVENT
END:VCALENDAR
