BEGIN:VCALENDAR
PRODID:-//PUBBLE//enter agenda//NL
VERSION:2.0
METHOD:PUBLISH
BEGIN:VEVENT
DTSTART:20240620T130000Z
DTEND:20240620T150000Z
DTSTAMP:20260422T103431Z
UID:0fb845c1-5725-4d30-a83f-d2f4d7c21c80
CREATED:20260422T103431Z
URL:https://www.weespfoto.nl/agenda/item/337801
NAME:Patrick and the Whale weespfoto.nl
X-WR-CALNAME:Patrick and the Whale weespfoto.nl
X-ALT-DESC;FMTTYPE=text/html:<a href='https://www.weespfoto.nl/agenda/item//337801'>https://weespfoto.nl/agenda/item//337801</a> || <p>Patrick’s &nbsp;ontmoeting met de uitzonderlijk sociaal en nieuwsgierige potvis Dolores zet zijn wereld volledig op zijn kop. Hiermee leert hij hen en zichzelf beter kennen.</p>
DESCRIPTION:<a href='https://www.weespfoto.nl/agenda/item//337801'>https://www.weespfoto.nl/agenda/item//337801</a> || Patrick’s  ontmoeting met de uitzonderlijk sociaal en nieuwsgierige potvis Dolores zet zijn wereld volledig op zijn kop. Hiermee leert hij hen en zichzelf beter kennen.
LAST-MODIFIED:20260422T103431Z
LOCATION:Theater de Omval Ouddiemerlaan 104 1111HL Diemen
SEQUENCE:0
STATUS:CONFIRMED
SUMMARY:Patrick and the Whale
TRANSP:OPAQUE
END:VEVENT
END:VCALENDAR
