BEGIN:VCALENDAR
PRODID:-//PUBBLE//enter agenda//NL
VERSION:2.0
METHOD:PUBLISH
BEGIN:VEVENT
DTSTART:20240620T153100Z
DTEND:20240620T163100Z
DTSTAMP:20260422T120302Z
UID:635e447d-278b-4158-a84d-99b5955a21b9
CREATED:20260422T120302Z
URL:https://www.weespfoto.nl/agenda/item/337802
NAME:Maria Montessori weespfoto.nl
X-WR-CALNAME:Maria Montessori weespfoto.nl
X-ALT-DESC;FMTTYPE=text/html:<a href='https://www.weespfoto.nl/agenda/item//337802'>https://weespfoto.nl/agenda/item//337802</a> || <p>Een indrukwekkend drama van een vrouw die haar tijd ver vooruit was en streed voor haar nieuwe onderwijsmethode in een tijd die werd gedomineerd door mannen. Een fascinerende film met intrigerende uitdagingen.</p>
DESCRIPTION:<a href='https://www.weespfoto.nl/agenda/item//337802'>https://www.weespfoto.nl/agenda/item//337802</a> || Een indrukwekkend drama van een vrouw die haar tijd ver vooruit was en streed voor haar nieuwe onderwijsmethode in een tijd die werd gedomineerd door mannen. Een fascinerende film met intrigerende uitdagingen.
LAST-MODIFIED:20260422T120302Z
LOCATION:Theater de Omval Ouddiemerlaan 104 1111HL Diemen
SEQUENCE:0
STATUS:CONFIRMED
SUMMARY:Maria Montessori
TRANSP:OPAQUE
END:VEVENT
END:VCALENDAR
