BEGIN:VCALENDAR
PRODID:-//PUBBLE//enter agenda//NL
VERSION:2.0
METHOD:PUBLISH
BEGIN:VEVENT
DTSTART:20240621T174500Z
DTEND:20240621T200000Z
DTSTAMP:20260423T003023Z
UID:83e7277e-e671-46dd-a41a-ee01cdd4799e
CREATED:20260423T003023Z
URL:https://www.weespfoto.nl/agenda/item/337812
NAME:Sharing circle cacao weespfoto.nl
X-WR-CALNAME:Sharing circle cacao weespfoto.nl
X-ALT-DESC;FMTTYPE=text/html:<a href='https://www.weespfoto.nl/agenda/item//337812'>https://weespfoto.nl/agenda/item//337812</a> || <p>Hallo mooie mensen,</p><p>Voel je welkom.</p><p>Een sharing circle is dat je in verbinding bent met elkaar en vanuit je hart spreekt,</p><p>Dit is een speciale met cacao (ceremonie) om je hart en ziel te openen.</p><p>Er is ook meditatie, ademwerk en kaartlegging</p><p>Aanmelden via the-creative-dreams@hotmail.com</p><p>Kosten: 22,50</p>
DESCRIPTION:<a href='https://www.weespfoto.nl/agenda/item//337812'>https://www.weespfoto.nl/agenda/item//337812</a> || Hallo mooie mensen,Voel je welkom.Een sharing circle is dat je in verbinding bent met elkaar en vanuit je hart spreekt,Dit is een speciale met cacao (ceremonie) om je hart en ziel te openen.Er is ook meditatie, ademwerk en kaartleggingAanmelden via the-creative-dreams@hotmail.comKosten: 22,50
LAST-MODIFIED:20260423T003023Z
LOCATION:Haven 5 Havenstraat 5 1271AB Huizen
SEQUENCE:0
STATUS:CONFIRMED
SUMMARY:Sharing circle cacao
TRANSP:OPAQUE
END:VEVENT
END:VCALENDAR
