BEGIN:VCALENDAR
PRODID:-//PUBBLE//enter agenda//NL
VERSION:2.0
METHOD:PUBLISH
BEGIN:VEVENT
DTSTART:20240621T180000Z
DTEND:20240621T200000Z
DTSTAMP:20260423T021208Z
UID:a5eb7a6c-7adc-485b-9718-a86e86d38db6
CREATED:20260423T021208Z
URL:https://www.weespfoto.nl/agenda/item/337837
NAME:Bed & Breakfast weespfoto.nl
X-WR-CALNAME:Bed & Breakfast weespfoto.nl
X-ALT-DESC;FMTTYPE=text/html:<a href='https://www.weespfoto.nl/agenda/item//337837'>https://weespfoto.nl/agenda/item//337837</a> || <p>Een heerlijke Nederlandse romkom, waarin Sarah moet kiezen tussen overwerken, afhaalmaaltijden en Ubers in een grote stad of voor de kippen en de moestuin in een Gronings dorp EN tussen twee potentiële ‘lovers’.</p>
DESCRIPTION:<a href='https://www.weespfoto.nl/agenda/item//337837'>https://www.weespfoto.nl/agenda/item//337837</a> || Een heerlijke Nederlandse romkom, waarin Sarah moet kiezen tussen overwerken, afhaalmaaltijden en Ubers in een grote stad of voor de kippen en de moestuin in een Gronings dorp EN tussen twee potentiële ‘lovers’.
LAST-MODIFIED:20260423T021208Z
LOCATION:Theater de Omval Ouddiemerlaan 104 1111HL Diemen
SEQUENCE:0
STATUS:CONFIRMED
SUMMARY:Bed & Breakfast
TRANSP:OPAQUE
END:VEVENT
END:VCALENDAR
