BEGIN:VCALENDAR
PRODID:-//PUBBLE//enter agenda//NL
VERSION:2.0
METHOD:PUBLISH
BEGIN:VEVENT
DTSTART:20240623T180000Z
DTEND:20240623T200000Z
DTSTAMP:20260423T203936Z
UID:8b066e25-9ac6-4a24-b238-163131710d1c
CREATED:20260423T203936Z
URL:https://www.weespfoto.nl/agenda/item/337945
NAME:Midzomeravondwandeling. weespfoto.nl
X-WR-CALNAME:Midzomeravondwandeling. weespfoto.nl
X-ALT-DESC;FMTTYPE=text/html:<a href='https://www.weespfoto.nl/agenda/item//337945'>https://weespfoto.nl/agenda/item//337945</a> || <p>Een midzomeravondwandeling met de Vrienden van het Gooi door het Spanderswoud.</p><p>Op zoek naar de schemerdieren, zoals reeën en vleermuizen.</p>
DESCRIPTION:<a href='https://www.weespfoto.nl/agenda/item//337945'>https://www.weespfoto.nl/agenda/item//337945</a> || Een midzomeravondwandeling met de Vrienden van het Gooi door het Spanderswoud.Op zoek naar de schemerdieren, zoals reeën en vleermuizen.
LAST-MODIFIED:20260423T203936Z
LOCATION:De Boshut Kroonlaan  1217aw Hilversum
SEQUENCE:0
STATUS:CONFIRMED
SUMMARY:Midzomeravondwandeling.
TRANSP:OPAQUE
END:VEVENT
END:VCALENDAR
