BEGIN:VCALENDAR
PRODID:-//PUBBLE//enter agenda//NL
VERSION:2.0
METHOD:PUBLISH
BEGIN:VEVENT
DTSTART:20240623T093000Z
DTEND:20240623T103000Z
DTSTAMP:20260423T144633Z
UID:baeae155-fff4-43d3-a4e1-7da7e93de3f5
CREATED:20260423T144633Z
URL:https://www.weespfoto.nl/agenda/item/337999
NAME:Zondagochtendkoffieconcert weespfoto.nl
X-WR-CALNAME:Zondagochtendkoffieconcert weespfoto.nl
X-ALT-DESC;FMTTYPE=text/html:<a href='https://www.weespfoto.nl/agenda/item//337999'>https://weespfoto.nl/agenda/item//337999</a> || <p>Elke zondagochtend is er muziek in het Papageno Huis. Zondag 23 juni &nbsp;treedt het ensemble suspirium bij ons op. Het concert begint om 11.30 uur en duurt een uur. Vanaf 11 uur bent u welkom voor koffie met wat lekkers. Kaarten via de website; https://www.papagenohuislaren.nl/agenda&nbsp;</p>
DESCRIPTION:<a href='https://www.weespfoto.nl/agenda/item//337999'>https://www.weespfoto.nl/agenda/item//337999</a> || Elke zondagochtend is er muziek in het Papageno Huis. Zondag 23 juni  treedt het ensemble suspirium bij ons op. Het concert begint om 11.30 uur en duurt een uur. Vanaf 11 uur bent u welkom voor koffie met wat lekkers. Kaarten via de website; https://www.papagenohuislaren.nl/agenda 
LAST-MODIFIED:20260423T144633Z
LOCATION:Papageno Huis Naarderstraat 77 1251bg Laren
SEQUENCE:0
STATUS:CONFIRMED
SUMMARY:Zondagochtendkoffieconcert
TRANSP:OPAQUE
END:VEVENT
END:VCALENDAR
