BEGIN:VCALENDAR
PRODID:-//PUBBLE//enter agenda//NL
VERSION:2.0
METHOD:PUBLISH
BEGIN:VEVENT
DTSTART:20240622T070000Z
DTEND:20240622T100000Z
DTSTAMP:20260423T034130Z
UID:607a1e0b-06e4-4afa-b19e-1078d1b3eafe
CREATED:20260423T034130Z
URL:https://www.weespfoto.nl/agenda/item/338319
NAME:inloop vrijwilligerswerk weespfoto.nl
X-WR-CALNAME:inloop vrijwilligerswerk weespfoto.nl
X-ALT-DESC;FMTTYPE=text/html:<a href='https://www.weespfoto.nl/agenda/item//338319'>https://weespfoto.nl/agenda/item//338319</a> || <p>Op zaterdagmorgen 22 juni a.s. is er in de Plataan informatie over vrijwilligerswerk in Naarden en omgeving. Kom gerust even langs voor meer informatie.</p>
DESCRIPTION:<a href='https://www.weespfoto.nl/agenda/item//338319'>https://www.weespfoto.nl/agenda/item//338319</a> || Op zaterdagmorgen 22 juni a.s. is er in de Plataan informatie over vrijwilligerswerk in Naarden en omgeving. Kom gerust even langs voor meer informatie.
LAST-MODIFIED:20260423T034130Z
LOCATION:De Plataan Naarden Majoor Kampsstraat 3 1411TT Naarden
SEQUENCE:0
STATUS:CONFIRMED
SUMMARY:inloop vrijwilligerswerk
TRANSP:OPAQUE
END:VEVENT
END:VCALENDAR
