BEGIN:VCALENDAR
PRODID:-//PUBBLE//enter agenda//NL
VERSION:2.0
METHOD:PUBLISH
BEGIN:VEVENT
DTSTART:20240623T130000Z
DTEND:20240623T150000Z
DTSTAMP:20260423T173659Z
UID:ee22961d-99f9-4c04-97be-fd287097bd69
CREATED:20260423T173659Z
URL:https://www.weespfoto.nl/agenda/item/338605
NAME:Tindal Openluchtconcert weespfoto.nl
X-WR-CALNAME:Tindal Openluchtconcert weespfoto.nl
X-ALT-DESC;FMTTYPE=text/html:<a href='https://www.weespfoto.nl/agenda/item//338605'>https://weespfoto.nl/agenda/item//338605</a> || <p>Het 37e Tindalkamermuziekseizoen wordt afgesloten met een openluchtconcert in de tuin van de Tindalvilla, bij regen in de Majellakapel. Dit jaar viel de keus op het virtuoze Nieuw Amsterdams Klarinetkwartet. Kaarten €25,- student €15,- scholieren €10, reserveren via www.tindal.nl &nbsp;Tel. 06 400112 45</p>
DESCRIPTION:<a href='https://www.weespfoto.nl/agenda/item//338605'>https://www.weespfoto.nl/agenda/item//338605</a> || Het 37e Tindalkamermuziekseizoen wordt afgesloten met een openluchtconcert in de tuin van de Tindalvilla, bij regen in de Majellakapel. Dit jaar viel de keus op het virtuoze Nieuw Amsterdams Klarinetkwartet. Kaarten €25,- student €15,- scholieren €10, reserveren via www.tindal.nl  Tel. 06 400112 45
LAST-MODIFIED:20260423T173659Z
LOCATION:    
SEQUENCE:0
STATUS:CONFIRMED
SUMMARY:Tindal Openluchtconcert
TRANSP:OPAQUE
END:VEVENT
END:VCALENDAR
