BEGIN:VCALENDAR
PRODID:-//PUBBLE//enter agenda//NL
VERSION:2.0
METHOD:PUBLISH
BEGIN:VEVENT
DTSTART:20240623T080000Z
DTEND:20240623T140000Z
DTSTAMP:20260423T115106Z
UID:52ed183b-35d7-4b39-8d5a-c8a785727415
CREATED:20260423T115106Z
URL:https://www.weespfoto.nl/agenda/item/338618
NAME:Fietstocht Wijdemeren weespfoto.nl
X-WR-CALNAME:Fietstocht Wijdemeren weespfoto.nl
X-ALT-DESC;FMTTYPE=text/html:<a href='https://www.weespfoto.nl/agenda/item//338618'>https://weespfoto.nl/agenda/item//338618</a> || <p>Het Fietsgilde rijdt zondag 23 juni de dagtocht “Wijdemeren”. Vertrek 10.00 uur vanaf de Kerkbrink in Hilversum. Kosten drie euro. Vooraf aanmelden niet nodig. Graag zelf zorgdragen voor lunchpakket. Zie voor meer informatie de website www.fietsgilde.nl</p>
DESCRIPTION:<a href='https://www.weespfoto.nl/agenda/item//338618'>https://www.weespfoto.nl/agenda/item//338618</a> || Het Fietsgilde rijdt zondag 23 juni de dagtocht “Wijdemeren”. Vertrek 10.00 uur vanaf de Kerkbrink in Hilversum. Kosten drie euro. Vooraf aanmelden niet nodig. Graag zelf zorgdragen voor lunchpakket. Zie voor meer informatie de website www.fietsgilde.nl
LAST-MODIFIED:20260423T115106Z
LOCATION:Museum Hilversum Kerkbrink 6 1211bx Hilversum
SEQUENCE:0
STATUS:CONFIRMED
SUMMARY:Fietstocht Wijdemeren
TRANSP:OPAQUE
END:VEVENT
END:VCALENDAR
