BEGIN:VCALENDAR
PRODID:-//PUBBLE//enter agenda//NL
VERSION:2.0
METHOD:PUBLISH
BEGIN:VEVENT
DTSTART:20240626T130000Z
DTEND:20240626T131500Z
DTSTAMP:20260424T011202Z
UID:a2c6e55c-f42e-4d1b-ac02-26140d0638cc
CREATED:20260424T011202Z
URL:https://www.weespfoto.nl/agenda/item/338796
NAME:Boekentip op woensdag weespfoto.nl
X-WR-CALNAME:Boekentip op woensdag weespfoto.nl
X-ALT-DESC;FMTTYPE=text/html:<a href='https://www.weespfoto.nl/agenda/item//338796'>https://weespfoto.nl/agenda/item//338796</a> || <p>Om 15.00 uur kun je terecht voor een boekentip voor een mooi, spannend of nieuw B-boek of J-boek! Soms lezen we een stukje voor, soms doen we een korte activiteit. Dus plan je biebbezoek in Huizen voortaan rond 3 uur!</p>
DESCRIPTION:<a href='https://www.weespfoto.nl/agenda/item//338796'>https://www.weespfoto.nl/agenda/item//338796</a> || Om 15.00 uur kun je terecht voor een boekentip voor een mooi, spannend of nieuw B-boek of J-boek! Soms lezen we een stukje voor, soms doen we een korte activiteit. Dus plan je biebbezoek in Huizen voortaan rond 3 uur!
LAST-MODIFIED:20260424T011202Z
LOCATION:Bibliotheek Gooi+ Huizen Plein 2000 1 1271KK Huizen
SEQUENCE:0
STATUS:CONFIRMED
SUMMARY:Boekentip op woensdag
TRANSP:OPAQUE
END:VEVENT
END:VCALENDAR
