BEGIN:VCALENDAR
PRODID:-//PUBBLE//enter agenda//NL
VERSION:2.0
METHOD:PUBLISH
BEGIN:VEVENT
DTSTART:20240626T133000Z
DTEND:20240626T143000Z
DTSTAMP:20260424T024425Z
UID:3f77fa67-104a-4617-a18a-620ae9d5a548
CREATED:20260424T024425Z
URL:https://www.weespfoto.nl/agenda/item/338797
NAME:Grootouders lezen voor weespfoto.nl
X-WR-CALNAME:Grootouders lezen voor weespfoto.nl
X-ALT-DESC;FMTTYPE=text/html:<a href='https://www.weespfoto.nl/agenda/item//338797'>https://weespfoto.nl/agenda/item//338797</a> || <p>Voorlezen door Grootouders voor het klimaat. Kom luisteren naar de verhalen van opa’s en oma’s. Voor kinderen van 3 - 6 jaar.&nbsp;</p>
DESCRIPTION:<a href='https://www.weespfoto.nl/agenda/item//338797'>https://www.weespfoto.nl/agenda/item//338797</a> || Voorlezen door Grootouders voor het klimaat. Kom luisteren naar de verhalen van opa’s en oma’s. Voor kinderen van 3 - 6 jaar. 
LAST-MODIFIED:20260424T024425Z
LOCATION:Bibliotheek Gooi+ Bussum Wilhelminaplantsoen 18 1404jb Bussum
SEQUENCE:0
STATUS:CONFIRMED
SUMMARY:Grootouders lezen voor
TRANSP:OPAQUE
END:VEVENT
END:VCALENDAR
