BEGIN:VCALENDAR
PRODID:-//PUBBLE//enter agenda//NL
VERSION:2.0
METHOD:PUBLISH
BEGIN:VEVENT
DTSTART:20240621T080000Z
DTEND:20240621T093000Z
DTSTAMP:20260422T181701Z
UID:4187404c-f00f-4b46-afd0-57e62817bc6d
CREATED:20260422T181701Z
URL:https://www.weespfoto.nl/agenda/item/338851
NAME:Open inloopochtend weespfoto.nl
X-WR-CALNAME:Open inloopochtend weespfoto.nl
X-ALT-DESC;FMTTYPE=text/html:<a href='https://www.weespfoto.nl/agenda/item//338851'>https://weespfoto.nl/agenda/item//338851</a> || <p>Op vrijdag 21 juni om 10.00 uur &nbsp;is er bij het Rozenkruis Hilversum &nbsp;een open inloopochtend met de titel: Ontmoeting met een Rozenkruiser. toegang: vrijwillige bijdrage, adres: Koninginneweg 41, 1217 KT Hilversum. Meer info www.rozenkruis.nl/hilversum en &nbsp;of bel met &nbsp;023-5186185. Je bent welkom!</p>
DESCRIPTION:<a href='https://www.weespfoto.nl/agenda/item//338851'>https://www.weespfoto.nl/agenda/item//338851</a> || Op vrijdag 21 juni om 10.00 uur  is er bij het Rozenkruis Hilversum  een open inloopochtend met de titel: Ontmoeting met een Rozenkruiser. toegang: vrijwillige bijdrage, adres: Koninginneweg 41, 1217 KT Hilversum. Meer info www.rozenkruis.nl/hilversum en  of bel met  023-5186185. Je bent welkom!
LAST-MODIFIED:20260422T181701Z
LOCATION:Het Gouden Rozenkruis Koninginneweg  41 1217KT Hilversum
SEQUENCE:0
STATUS:CONFIRMED
SUMMARY:Open inloopochtend
TRANSP:OPAQUE
END:VEVENT
END:VCALENDAR
