BEGIN:VCALENDAR
PRODID:-//PUBBLE//enter agenda//NL
VERSION:2.0
METHOD:PUBLISH
BEGIN:VEVENT
DTSTART:20240622T120000Z
DTEND:20240622T140000Z
DTSTAMP:20260423T064838Z
UID:2f6d67f2-1266-4f46-badd-350f2a09abcc
CREATED:20260423T064838Z
URL:https://www.weespfoto.nl/agenda/item/338856
NAME:Historische wandeling weespfoto.nl
X-WR-CALNAME:Historische wandeling weespfoto.nl
X-ALT-DESC;FMTTYPE=text/html:<a href='https://www.weespfoto.nl/agenda/item//338856'>https://weespfoto.nl/agenda/item//338856</a> || <p>Zat. 22 juni start er een wandeling door het Oude Dorp van Huizen met aan het einde een bezoek aan het huisje van Hansje Dol. Nadat je een interessante wandeling hebt gemaakt o.l.v. een gids, wacht een warm welkom in huisje aan de Hellingstraat.</p><p>Aanmelden via de website: huizermuseum.nl Kn € 12,50 pp</p>
DESCRIPTION:<a href='https://www.weespfoto.nl/agenda/item//338856'>https://www.weespfoto.nl/agenda/item//338856</a> || Zat. 22 juni start er een wandeling door het Oude Dorp van Huizen met aan het einde een bezoek aan het huisje van Hansje Dol. Nadat je een interessante wandeling hebt gemaakt o.l.v. een gids, wacht een warm welkom in huisje aan de Hellingstraat.Aanmelden via de website: huizermuseum.nl Kn € 12,50 pp
LAST-MODIFIED:20260423T064838Z
LOCATION:Huizer Museum Achterbaan 82 1271TZ Huizen
SEQUENCE:0
STATUS:CONFIRMED
SUMMARY:Historische wandeling
TRANSP:OPAQUE
END:VEVENT
END:VCALENDAR
