BEGIN:VCALENDAR
PRODID:-//PUBBLE//enter agenda//NL
VERSION:2.0
METHOD:PUBLISH
BEGIN:VEVENT
DTSTART:20240622T090000Z
DTEND:20240622T140000Z
DTSTAMP:20260423T050234Z
UID:820d9490-da89-47b3-9aba-e5c205853c06
CREATED:20260423T050234Z
URL:https://www.weespfoto.nl/agenda/item/338952
NAME:Stilte en Ontspandag weespfoto.nl
X-WR-CALNAME:Stilte en Ontspandag weespfoto.nl
X-ALT-DESC;FMTTYPE=text/html:<a href='https://www.weespfoto.nl/agenda/item//338952'>https://weespfoto.nl/agenda/item//338952</a> || <p>Verlang je naar meer rust in verbinding met jezelf en met God. Ga er een dagje uit voor jezelf. Even een dag eruit voor rust en ontspanning met een divers aanbod van massage, mediatie en olien gebruiken we al je zintuigen.Ook een lekkere lunch hoort erbij.</p>
DESCRIPTION:<a href='https://www.weespfoto.nl/agenda/item//338952'>https://www.weespfoto.nl/agenda/item//338952</a> || Verlang je naar meer rust in verbinding met jezelf en met God. Ga er een dagje uit voor jezelf. Even een dag eruit voor rust en ontspanning met een divers aanbod van massage, mediatie en olien gebruiken we al je zintuigen.Ook een lekkere lunch hoort erbij.
LAST-MODIFIED:20260423T050234Z
LOCATION:Christelijk Spiritueel Centrum Havenstraat 119 1211KK Hilversum
SEQUENCE:0
STATUS:CONFIRMED
SUMMARY:Stilte en Ontspandag
TRANSP:OPAQUE
END:VEVENT
END:VCALENDAR
