BEGIN:VCALENDAR
PRODID:-//PUBBLE//enter agenda//NL
VERSION:2.0
METHOD:PUBLISH
BEGIN:VEVENT
DTSTART:20240620T170000Z
DTEND:20240620T180000Z
DTSTAMP:20260422T135035Z
UID:f28b5286-3cd7-46af-b498-c32a33af2e17
CREATED:20260422T135035Z
URL:https://www.weespfoto.nl/agenda/item/338983
NAME:Spreekuur Ombudsman weespfoto.nl
X-WR-CALNAME:Spreekuur Ombudsman weespfoto.nl
X-ALT-DESC;FMTTYPE=text/html:<a href='https://www.weespfoto.nl/agenda/item//338983'>https://weespfoto.nl/agenda/item//338983</a> || <p>Ombudsteam Eemnes is opgericht om mensen te helpen die verstrikt raken in bureaucratische regels, die zich onrechtvaardig behandeld voelen of voor wie het beleid slecht uitpakt.</p>
DESCRIPTION:<a href='https://www.weespfoto.nl/agenda/item//338983'>https://www.weespfoto.nl/agenda/item//338983</a> || Ombudsteam Eemnes is opgericht om mensen te helpen die verstrikt raken in bureaucratische regels, die zich onrechtvaardig behandeld voelen of voor wie het beleid slecht uitpakt.
LAST-MODIFIED:20260422T135035Z
LOCATION:Bibliotheek Gooi+ Eemnes Noordersingel 4 3755ez Eemnes
SEQUENCE:0
STATUS:CONFIRMED
SUMMARY:Spreekuur Ombudsman
TRANSP:OPAQUE
END:VEVENT
END:VCALENDAR
