BEGIN:VCALENDAR
PRODID:-//PUBBLE//enter agenda//NL
VERSION:2.0
METHOD:PUBLISH
BEGIN:VEVENT
DTSTART:20240626T120000Z
DTEND:20240626T130000Z
DTSTAMP:20260423T235211Z
UID:07331fed-d48c-48bf-8b16-a1293c84adb0
CREATED:20260423T235211Z
URL:https://www.weespfoto.nl/agenda/item/338987
NAME:Spreekuur Wijkbrandweer weespfoto.nl
X-WR-CALNAME:Spreekuur Wijkbrandweer weespfoto.nl
X-ALT-DESC;FMTTYPE=text/html:<a href='https://www.weespfoto.nl/agenda/item//338987'>https://weespfoto.nl/agenda/item//338987</a> || <p>Heb je vragen over brandveiligheid, over CO-melders en rookmelders? Wil je een gratis woningcheck of vluchtplannen in je woning bespreken?&nbsp;</p><p>De wijkbrandweer ontmoet je graag in de Bibliotheek.</p><p>Afspraak maken is niet nodig. &nbsp;</p>
DESCRIPTION:<a href='https://www.weespfoto.nl/agenda/item//338987'>https://www.weespfoto.nl/agenda/item//338987</a> || Heb je vragen over brandveiligheid, over CO-melders en rookmelders? Wil je een gratis woningcheck of vluchtplannen in je woning bespreken? De wijkbrandweer ontmoet je graag in de Bibliotheek.Afspraak maken is niet nodig.  
LAST-MODIFIED:20260423T235211Z
LOCATION:Bibliotheek Gooi+ Huizen Plein 2000 1 1271KK Huizen
SEQUENCE:0
STATUS:CONFIRMED
SUMMARY:Spreekuur Wijkbrandweer
TRANSP:OPAQUE
END:VEVENT
END:VCALENDAR
