BEGIN:VCALENDAR
PRODID:-//PUBBLE//enter agenda//NL
VERSION:2.0
METHOD:PUBLISH
BEGIN:VEVENT
DTSTART:20240623T140000Z
DTEND:20240623T150000Z
DTSTAMP:20260423T191253Z
UID:9da662fc-29c4-44eb-bf0c-d52afa7d07ed
CREATED:20260423T191253Z
URL:https://www.weespfoto.nl/agenda/item/339028
NAME:Zomerconcert Prinses Irene weespfoto.nl
X-WR-CALNAME:Zomerconcert Prinses Irene weespfoto.nl
X-ALT-DESC;FMTTYPE=text/html:<a href='https://www.weespfoto.nl/agenda/item//339028'>https://weespfoto.nl/agenda/item//339028</a> || <p>Het harmonieorkest van Prinses Irene geeft een zomerconcert met vlotte muziek op de Botterwerf in de oude Haven.&nbsp;</p><p>Het concert is gratis en de bar van de Botterwerf is open voor wie er iets bij wil drinken.</p><p>We spelen o.a. muziek van Frozen, maar ook meezingers als Tulpen uit Amsterdam.</p><p>U komt toch ook?</p>
DESCRIPTION:<a href='https://www.weespfoto.nl/agenda/item//339028'>https://www.weespfoto.nl/agenda/item//339028</a> || Het harmonieorkest van Prinses Irene geeft een zomerconcert met vlotte muziek op de Botterwerf in de oude Haven. Het concert is gratis en de bar van de Botterwerf is open voor wie er iets bij wil drinken.We spelen o.a. muziek van Frozen, maar ook meezingers als Tulpen uit Amsterdam.U komt toch ook?
LAST-MODIFIED:20260423T191253Z
LOCATION:Stichting Botterwerf Huizen Nieuwe Bussummerweg 57 1272cd Huizen
SEQUENCE:0
STATUS:CONFIRMED
SUMMARY:Zomerconcert Prinses Irene
TRANSP:OPAQUE
END:VEVENT
END:VCALENDAR
