BEGIN:VCALENDAR
PRODID:-//PUBBLE//enter agenda//NL
VERSION:2.0
METHOD:PUBLISH
BEGIN:VEVENT
DTSTART:20240621T113000Z
DTEND:20240621T123000Z
DTSTAMP:20260422T213049Z
UID:4573698e-e373-4256-b3da-15c5a9694100
CREATED:20260422T213049Z
URL:https://www.weespfoto.nl/agenda/item/339061
NAME:Textiel ruil/reparatie mid weespfoto.nl
X-WR-CALNAME:Textiel ruil/reparatie mid weespfoto.nl
X-ALT-DESC;FMTTYPE=text/html:<a href='https://www.weespfoto.nl/agenda/item//339061'>https://weespfoto.nl/agenda/item//339061</a> || <p>Op OBS De Octopus organiseren we een textiel ruil en reparatie middag. Dit doen we in het kader van bewuster omgaan met textiel. De leerlingen kunnen hun kleding in ruilen of laten repareren.</p>
DESCRIPTION:<a href='https://www.weespfoto.nl/agenda/item//339061'>https://www.weespfoto.nl/agenda/item//339061</a> || Op OBS De Octopus organiseren we een textiel ruil en reparatie middag. Dit doen we in het kader van bewuster omgaan met textiel. De leerlingen kunnen hun kleding in ruilen of laten repareren.
LAST-MODIFIED:20260422T213049Z
LOCATION:Basisschool de Octopus Schoolpad 6-8 1111cs Diemen
SEQUENCE:0
STATUS:CONFIRMED
SUMMARY:Textiel ruil/reparatie mid
TRANSP:OPAQUE
END:VEVENT
END:VCALENDAR
