BEGIN:VCALENDAR
PRODID:-//PUBBLE//enter agenda//NL
VERSION:2.0
METHOD:PUBLISH
BEGIN:VEVENT
DTSTART:20260503T100000Z
DTEND:20261206T161400Z
DTSTAMP:20260424T042437Z
UID:a5f9290e-47e7-4d26-8f5d-de10c5dac1ce
CREATED:20260424T042437Z
URL:https://www.weespfoto.nl/agenda/item/341491
NAME:Bingo in de Palmpit weespfoto.nl
X-WR-CALNAME:Bingo in de Palmpit weespfoto.nl
X-ALT-DESC;FMTTYPE=text/html:<a href='https://www.weespfoto.nl/agenda/item//341491'>https://weespfoto.nl/agenda/item//341491</a> || <p>Gezellig bingo spelen in WOC De Palmpit met leuke prijzen. Een bingo kaart kost € 5,-. Dit is inclusief één consumptie en gratis lekkere hapjes. &nbsp;Aanvang 14.00 uur.</p>
DESCRIPTION:<a href='https://www.weespfoto.nl/agenda/item//341491'>https://www.weespfoto.nl/agenda/item//341491</a> || Gezellig bingo spelen in WOC De Palmpit met leuke prijzen. Een bingo kaart kost € 5,-. Dit is inclusief één consumptie en gratis lekkere hapjes.  Aanvang 14.00 uur.
LAST-MODIFIED:20260424T042437Z
LOCATION:De Palmpit Bussum Koekoeklaan  3 1403ea Bussum
SEQUENCE:0
STATUS:CONFIRMED
SUMMARY:Bingo in de Palmpit
TRANSP:OPAQUE
END:VEVENT
END:VCALENDAR
