BEGIN:VCALENDAR
PRODID:-//PUBBLE//enter agenda//NL
VERSION:2.0
METHOD:PUBLISH
BEGIN:VEVENT
DTSTART:20260130T100000Z
DTEND:20260130T110000Z
DTSTAMP:20260424T015649Z
UID:dd3780e0-4fde-40e4-a293-801f8660c0b3
CREATED:20260424T015649Z
URL:https://www.weespfoto.nl/agenda/item/346204
NAME:Brandweer inloopspreekuur weespfoto.nl
X-WR-CALNAME:Brandweer inloopspreekuur weespfoto.nl
X-ALT-DESC;FMTTYPE=text/html:<a href='https://www.weespfoto.nl/agenda/item//346204'>https://weespfoto.nl/agenda/item//346204</a> || <p>Heb je vragen over brandveiligheid, over CO2 melders en rookmelders? Wil je een gratis woningcheck of vluchtplannen in je woning bespreken? De wijkbrandweer ontmoet je graag in de bibliotheek Brinkhuis Laren.</p>
DESCRIPTION:<a href='https://www.weespfoto.nl/agenda/item//346204'>https://www.weespfoto.nl/agenda/item//346204</a> || Heb je vragen over brandveiligheid, over CO2 melders en rookmelders? Wil je een gratis woningcheck of vluchtplannen in je woning bespreken? De wijkbrandweer ontmoet je graag in de bibliotheek Brinkhuis Laren.
LAST-MODIFIED:20260424T015649Z
LOCATION:Brinkhuis Brink 29 1251kt Laren
SEQUENCE:0
STATUS:CONFIRMED
SUMMARY:Brandweer inloopspreekuur
TRANSP:OPAQUE
END:VEVENT
END:VCALENDAR
