BEGIN:VCALENDAR
PRODID:-//PUBBLE//enter agenda//NL
VERSION:2.0
METHOD:PUBLISH
BEGIN:VEVENT
DTSTART:20250410T112400Z
DTEND:20250330T110900Z
DTSTAMP:20260424T223821Z
UID:849ab76d-9d96-4c4e-9aaf-6d94b3f8a17b
CREATED:20260424T223821Z
URL:https://www.weespfoto.nl/agenda/item/347494
NAME:Stoelyoga weespfoto.nl
X-WR-CALNAME:Stoelyoga weespfoto.nl
X-ALT-DESC;FMTTYPE=text/html:<a href='https://www.weespfoto.nl/agenda/item//347494'>https://weespfoto.nl/agenda/item//347494</a> || <p>Stoelyoga is voor senioren een uitermate geschikte manier om de fitheid te verbeteren. Leeftijd, lenigheid, conditie of minder mobiel zijn er niet toe doet!&nbsp;</p><p>Kom gratis proeflessen doen. Als de lessen bevallen, kun je lid worden van Gymnastiek-&amp; Turn- vereniging Keizer Otto. Bel: 06-10874222&nbsp;</p>
DESCRIPTION:<a href='https://www.weespfoto.nl/agenda/item//347494'>https://www.weespfoto.nl/agenda/item//347494</a> || Stoelyoga is voor senioren een uitermate geschikte manier om de fitheid te verbeteren. Leeftijd, lenigheid, conditie of minder mobiel zijn er niet toe doet! Kom gratis proeflessen doen. Als de lessen bevallen, kun je lid worden van Gymnastiek-& Turn- vereniging Keizer Otto. Bel: 06-10874222 
LAST-MODIFIED:20260424T223821Z
LOCATION:SOOV Lange Heul 32 1403nl Bussum
SEQUENCE:0
STATUS:CONFIRMED
SUMMARY:Stoelyoga
TRANSP:OPAQUE
END:VEVENT
END:VCALENDAR
