BEGIN:VCALENDAR
PRODID:-//PUBBLE//enter agenda//NL
VERSION:2.0
METHOD:PUBLISH
BEGIN:VEVENT
DTSTART:20250410T120000Z
DTEND:20250410T143000Z
DTSTAMP:20260424T175943Z
UID:b6e345bf-f2f0-443d-a050-6a4180b78092
CREATED:20260424T175943Z
URL:https://www.weespfoto.nl/agenda/item/347563
NAME:Klankbad Oefengroep weespfoto.nl
X-WR-CALNAME:Klankbad Oefengroep weespfoto.nl
X-ALT-DESC;FMTTYPE=text/html:<a href='https://www.weespfoto.nl/agenda/item//347563'>https://weespfoto.nl/agenda/item//347563</a> || <p>(Leer) samen klank maken met traditionele instrumenten.</p><p>Donderdagen om de 2/3 weken.&nbsp;</p><p>In deze groep leer je met verschillende instrumenten te werken, en hoe je hierin met elkaar samenspeelt. Alle informatie staat op de website van Haven 5.</p>
DESCRIPTION:<a href='https://www.weespfoto.nl/agenda/item//347563'>https://www.weespfoto.nl/agenda/item//347563</a> || (Leer) samen klank maken met traditionele instrumenten.Donderdagen om de 2/3 weken. In deze groep leer je met verschillende instrumenten te werken, en hoe je hierin met elkaar samenspeelt. Alle informatie staat op de website van Haven 5.
LAST-MODIFIED:20260424T175943Z
LOCATION:Haven 5 Havenstraat 5 1271AB Huizen
SEQUENCE:0
STATUS:CONFIRMED
SUMMARY:Klankbad Oefengroep
TRANSP:OPAQUE
END:VEVENT
END:VCALENDAR
