BEGIN:VCALENDAR
PRODID:-//PUBBLE//enter agenda//NL
VERSION:2.0
METHOD:PUBLISH
BEGIN:VEVENT
DTSTART:20260305T163000Z
DTEND:20261217T095300Z
DTSTAMP:20260423T202527Z
UID:fa10134d-c52a-40ec-b182-b2c9aeaaa630
CREATED:20260423T202527Z
URL:https://www.weespfoto.nl/agenda/item/348719
NAME:Franse conversatie weespfoto.nl
X-WR-CALNAME:Franse conversatie weespfoto.nl
X-ALT-DESC;FMTTYPE=text/html:<a href='https://www.weespfoto.nl/agenda/item//348719'>https://weespfoto.nl/agenda/item//348719</a> || <p>Bij onze gezellige Franse “senioren” conversatiegroep, die al jaren uit dezelfde mensen bestaat, zijn wat plekken vrijgekomen. De cursus is om de 14 dagen en kent in principe geen zomer/ winterstop!</p>
DESCRIPTION:<a href='https://www.weespfoto.nl/agenda/item//348719'>https://www.weespfoto.nl/agenda/item//348719</a> || Bij onze gezellige Franse “senioren” conversatiegroep, die al jaren uit dezelfde mensen bestaat, zijn wat plekken vrijgekomen. De cursus is om de 14 dagen en kent in principe geen zomer/ winterstop!
LAST-MODIFIED:20260423T202527Z
LOCATION:De Palmpit Bussum Koekoeklaan  3 1403ea Bussum
SEQUENCE:0
STATUS:CONFIRMED
SUMMARY:Franse conversatie
TRANSP:OPAQUE
END:VEVENT
END:VCALENDAR
