BEGIN:VCALENDAR
PRODID:-//PUBBLE//enter agenda//NL
VERSION:2.0
METHOD:PUBLISH
BEGIN:VEVENT
DTSTART:20260406T150000Z
DTEND:20261218T101200Z
DTSTAMP:20260424T025517Z
UID:07c24f42-b7db-4742-aa9c-25e634981bde
CREATED:20260424T025517Z
URL:https://www.weespfoto.nl/agenda/item/348722
NAME:Klaverjassen en spelletjes weespfoto.nl
X-WR-CALNAME:Klaverjassen en spelletjes weespfoto.nl
X-ALT-DESC;FMTTYPE=text/html:<a href='https://www.weespfoto.nl/agenda/item//348722'>https://weespfoto.nl/agenda/item//348722</a> || <p>Een middagje gezellig Amsterdams klaverjassen zonder mes op tafel. Geen competitie, maar per midag een prijs voor de speler met de hoogste score. Ook gelegenheid voor het gezellig spelen van andere spelletjes. Elke vrijdagmiddag. Info: 06 - 233 53 813.</p>
DESCRIPTION:<a href='https://www.weespfoto.nl/agenda/item//348722'>https://www.weespfoto.nl/agenda/item//348722</a> || Een middagje gezellig Amsterdams klaverjassen zonder mes op tafel. Geen competitie, maar per midag een prijs voor de speler met de hoogste score. Ook gelegenheid voor het gezellig spelen van andere spelletjes. Elke vrijdagmiddag. Info: 06 - 233 53 813.
LAST-MODIFIED:20260424T025517Z
LOCATION:De Palmpit Bussum Koekoeklaan  3 1403ea Bussum
SEQUENCE:0
STATUS:CONFIRMED
SUMMARY:Klaverjassen en spelletjes
TRANSP:OPAQUE
END:VEVENT
END:VCALENDAR
