BEGIN:VCALENDAR
PRODID:-//PUBBLE//enter agenda//NL
VERSION:2.0
METHOD:PUBLISH
BEGIN:VEVENT
DTSTART:20250613T090000Z
DTEND:20250613T100000Z
DTSTAMP:20260421T204040Z
UID:a5867817-ed1e-4bd9-863e-09b759003af5
CREATED:20260421T204040Z
URL:https://www.weespfoto.nl/agenda/item/348774
NAME:Spreekuur Leefstijlpunt weespfoto.nl
X-WR-CALNAME:Spreekuur Leefstijlpunt weespfoto.nl
X-ALT-DESC;FMTTYPE=text/html:<a href='https://www.weespfoto.nl/agenda/item//348774'>https://weespfoto.nl/agenda/item//348774</a> || <p>Voor hulp bij een gezonder leven kun je terecht bij het Leefstijlpunt. Professionals helpen je op het gebied van mentale steun, dagelijks functioneren, zingeving, en kwaliteit van leven.</p>
DESCRIPTION:<a href='https://www.weespfoto.nl/agenda/item//348774'>https://www.weespfoto.nl/agenda/item//348774</a> || Voor hulp bij een gezonder leven kun je terecht bij het Leefstijlpunt. Professionals helpen je op het gebied van mentale steun, dagelijks functioneren, zingeving, en kwaliteit van leven.
LAST-MODIFIED:20260421T204040Z
LOCATION:Bibliotheek Gooi + Laren Brink 29 1251kt Laren
SEQUENCE:0
STATUS:CONFIRMED
SUMMARY:Spreekuur Leefstijlpunt
TRANSP:OPAQUE
END:VEVENT
END:VCALENDAR
