BEGIN:VCALENDAR
PRODID:-//PUBBLE//enter agenda//NL
VERSION:2.0
METHOD:PUBLISH
BEGIN:VEVENT
DTSTART:20250410T173000Z
DTEND:20250410T183000Z
DTSTAMP:20260424T210038Z
UID:ed88d5c6-0882-4680-993b-0b4e4aa83332
CREATED:20260424T210038Z
URL:https://www.weespfoto.nl/agenda/item/350782
NAME:Doe het zelf isoleren weespfoto.nl
X-WR-CALNAME:Doe het zelf isoleren weespfoto.nl
X-ALT-DESC;FMTTYPE=text/html:<a href='https://www.weespfoto.nl/agenda/item//350782'>https://weespfoto.nl/agenda/item//350782</a> || <p>Info avond: Doe het zelf isoleren</p><p>Kom langs en zet de eerste stap naar een comfortabeler én energiezuiniger huis!</p><p>Voor inzicht in isolatiematerialen, een stapsgewijze uitleg en direct toepasbare tips. Er is voldoende ruimte voor het stellen van uw eigen vragen.</p>
DESCRIPTION:<a href='https://www.weespfoto.nl/agenda/item//350782'>https://www.weespfoto.nl/agenda/item//350782</a> || Info avond: Doe het zelf isolerenKom langs en zet de eerste stap naar een comfortabeler én energiezuiniger huis!Voor inzicht in isolatiematerialen, een stapsgewijze uitleg en direct toepasbare tips. Er is voldoende ruimte voor het stellen van uw eigen vragen.
LAST-MODIFIED:20260424T210038Z
LOCATION:HuizenDuurzaam Kerkstraat 45 1271rk Huizen
SEQUENCE:0
STATUS:CONFIRMED
SUMMARY:Doe het zelf isoleren
TRANSP:OPAQUE
END:VEVENT
END:VCALENDAR
