BEGIN:VCALENDAR
PRODID:-//PUBBLE//enter agenda//NL
VERSION:2.0
METHOD:PUBLISH
BEGIN:VEVENT
DTSTART:20260305T180000Z
DTEND:20260305T200000Z
DTSTAMP:20260424T031312Z
UID:210d4532-7802-4841-9a00-9664f459ce9b
CREATED:20260424T031312Z
URL:https://www.weespfoto.nl/agenda/item/351040
NAME:EHBO basiscursus weespfoto.nl
X-WR-CALNAME:EHBO basiscursus weespfoto.nl
X-ALT-DESC;FMTTYPE=text/html:<a href='https://www.weespfoto.nl/agenda/item//351040'>https://weespfoto.nl/agenda/item//351040</a> || <p>Weet u wat u moet doen als iemand zich verslikt of een hevig bloedende wond heeft? Tijdens onze EHBO basiscursus leert u wat u kunt doen bij kleine en grotere ongelukken.&nbsp;</p><p>De cursus wordt afgesloten met een examen door het Oranje Kruis. Kijk op onze website www.ehbo-mitella.nl voor meer informatie.</p>
DESCRIPTION:<a href='https://www.weespfoto.nl/agenda/item//351040'>https://www.weespfoto.nl/agenda/item//351040</a> || Weet u wat u moet doen als iemand zich verslikt of een hevig bloedende wond heeft? Tijdens onze EHBO basiscursus leert u wat u kunt doen bij kleine en grotere ongelukken. De cursus wordt afgesloten met een examen door het Oranje Kruis. Kijk op onze website www.ehbo-mitella.nl voor meer informatie.
LAST-MODIFIED:20260424T031312Z
LOCATION:Verenigingengebouw Disneyland Lentestraat 34 1109AT Driemond
SEQUENCE:0
STATUS:CONFIRMED
SUMMARY:EHBO basiscursus
TRANSP:OPAQUE
END:VEVENT
END:VCALENDAR
