BEGIN:VCALENDAR
PRODID:-//PUBBLE//enter agenda//NL
VERSION:2.0
METHOD:PUBLISH
BEGIN:VEVENT
DTSTART:20250409T084500Z
DTEND:20250409T153000Z
DTSTAMP:20260424T120658Z
UID:4d04e2a6-1a52-4319-a621-97d84f65c4df
CREATED:20260424T120658Z
URL:https://www.weespfoto.nl/agenda/item/351220
NAME:Plus bus Weesp weespfoto.nl
X-WR-CALNAME:Plus bus Weesp weespfoto.nl
X-ALT-DESC;FMTTYPE=text/html:<a href='https://www.weespfoto.nl/agenda/item//351220'>https://weespfoto.nl/agenda/item//351220</a> || <p>Bachs muziek voor de Passietijd- Bullekerk Zaandam. Sytse Buwalda (tenor) en pianist Wouter Harbers brengen passie liederen ten gehoren uit “ Bachs Matthaus-Passion. Laat u raken! Info ma en Vr tussen 10-12 uur; 0294410639.</p>
DESCRIPTION:<a href='https://www.weespfoto.nl/agenda/item//351220'>https://www.weespfoto.nl/agenda/item//351220</a> || Bachs muziek voor de Passietijd- Bullekerk Zaandam. Sytse Buwalda (tenor) en pianist Wouter Harbers brengen passie liederen ten gehoren uit “ Bachs Matthaus-Passion. Laat u raken! Info ma en Vr tussen 10-12 uur; 0294410639.
LAST-MODIFIED:20260424T120658Z
LOCATION:Thuis ophalen xx xx XXXX Weesp
SEQUENCE:0
STATUS:CONFIRMED
SUMMARY:Plus bus Weesp
TRANSP:OPAQUE
END:VEVENT
END:VCALENDAR
