BEGIN:VCALENDAR
PRODID:-//PUBBLE//enter agenda//NL
VERSION:2.0
METHOD:PUBLISH
BEGIN:VEVENT
DTSTART:20250410T081500Z
DTEND:20250410T153000Z
DTSTAMP:20260424T162847Z
UID:10594295-8a46-4e34-a80b-3b7720419db0
CREATED:20260424T162847Z
URL:https://www.weespfoto.nl/agenda/item/351221
NAME:PlusBus Weesp weespfoto.nl
X-WR-CALNAME:PlusBus Weesp weespfoto.nl
X-ALT-DESC;FMTTYPE=text/html:<a href='https://www.weespfoto.nl/agenda/item//351221'>https://weespfoto.nl/agenda/item//351221</a> || <p>Achter de schermen bloemen corso Noordwijkerhout. We gaan eerst lunchen bij lunchroom “Ons genoegen” in Voorhout. Daarna naar Noordwijkerhout om te kijken hoe de wagens opgebouwd worden met voorjaarsbloemen. Info ma en vr tussen 10-12uur op ; 0294-410639.</p>
DESCRIPTION:<a href='https://www.weespfoto.nl/agenda/item//351221'>https://www.weespfoto.nl/agenda/item//351221</a> || Achter de schermen bloemen corso Noordwijkerhout. We gaan eerst lunchen bij lunchroom “Ons genoegen” in Voorhout. Daarna naar Noordwijkerhout om te kijken hoe de wagens opgebouwd worden met voorjaarsbloemen. Info ma en vr tussen 10-12uur op ; 0294-410639.
LAST-MODIFIED:20260424T162847Z
LOCATION:Thuis ophalen xx xx XXXX Weesp
SEQUENCE:0
STATUS:CONFIRMED
SUMMARY:PlusBus Weesp
TRANSP:OPAQUE
END:VEVENT
END:VCALENDAR
