BEGIN:VCALENDAR
PRODID:-//PUBBLE//enter agenda//NL
VERSION:2.0
METHOD:PUBLISH
BEGIN:VEVENT
DTSTART:20250408T180000Z
DTEND:20250408T200000Z
DTSTAMP:20260424T085629Z
UID:bf543316-9d02-4859-80ca-2eea1f8c7f6e
CREATED:20260424T085629Z
URL:https://www.weespfoto.nl/agenda/item/351286
NAME:Spiegelogie weespfoto.nl
X-WR-CALNAME:Spiegelogie weespfoto.nl
X-ALT-DESC;FMTTYPE=text/html:<a href='https://www.weespfoto.nl/agenda/item//351286'>https://weespfoto.nl/agenda/item//351286</a> || <p>In een Spiegelogie fanclub steun je elkaar en jezelf bij dat wat jij nodig hebt in het leven. Dat kan van alles zijn, zoals bijvoorbeeld meer (zelf)vertrouwen, (zelf)waardering,(zelf)liefde, dankbaarheid etc. Voor vragen of aanmelden, Dokelien: 06 – 4007 8731.</p>
DESCRIPTION:<a href='https://www.weespfoto.nl/agenda/item//351286'>https://www.weespfoto.nl/agenda/item//351286</a> || In een Spiegelogie fanclub steun je elkaar en jezelf bij dat wat jij nodig hebt in het leven. Dat kan van alles zijn, zoals bijvoorbeeld meer (zelf)vertrouwen, (zelf)waardering,(zelf)liefde, dankbaarheid etc. Voor vragen of aanmelden, Dokelien: 06 – 4007 8731.
LAST-MODIFIED:20260424T085629Z
LOCATION:Haven 5 Havenstraat 5 1271AB Huizen
SEQUENCE:0
STATUS:CONFIRMED
SUMMARY:Spiegelogie
TRANSP:OPAQUE
END:VEVENT
END:VCALENDAR
