BEGIN:VCALENDAR
PRODID:-//PUBBLE//enter agenda//NL
VERSION:2.0
METHOD:PUBLISH
BEGIN:VEVENT
DTSTART:20250409T080000Z
DTEND:20250409T093000Z
DTSTAMP:20260424T102634Z
UID:cd1a9a67-63f2-4404-8a59-1348a417cec4
CREATED:20260424T102634Z
URL:https://www.weespfoto.nl/agenda/item/352794
NAME:Lentemarkt Trappenberg weespfoto.nl
X-WR-CALNAME:Lentemarkt Trappenberg weespfoto.nl
X-ALT-DESC;FMTTYPE=text/html:<a href='https://www.weespfoto.nl/agenda/item//352794'>https://weespfoto.nl/agenda/item//352794</a> || <p>Woensdag 9 april 2025 organiseert College De Trappenberg van 10.00 tot 11.30 uur een lentemarkt in de hal van de school aan de Soestdijkerweg 129c in Hilversum.</p>
DESCRIPTION:<a href='https://www.weespfoto.nl/agenda/item//352794'>https://www.weespfoto.nl/agenda/item//352794</a> || Woensdag 9 april 2025 organiseert College De Trappenberg van 10.00 tot 11.30 uur een lentemarkt in de hal van de school aan de Soestdijkerweg 129c in Hilversum.
LAST-MODIFIED:20260424T102634Z
LOCATION:(College) De Trappenberg Soestdijkerstraatweg 129C 1213vx Hilversum
SEQUENCE:0
STATUS:CONFIRMED
SUMMARY:Lentemarkt Trappenberg
TRANSP:OPAQUE
END:VEVENT
END:VCALENDAR
