BEGIN:VCALENDAR
PRODID:-//PUBBLE//enter agenda//NL
VERSION:2.0
METHOD:PUBLISH
BEGIN:VEVENT
DTSTART:20250408T133000Z
DTEND:20250408T143000Z
DTSTAMP:20260424T053347Z
UID:346ef564-f945-47fe-ad58-4127be03332f
CREATED:20260424T053347Z
URL:https://www.weespfoto.nl/agenda/item/352887
NAME:Spreekuur MEE weespfoto.nl
X-WR-CALNAME:Spreekuur MEE weespfoto.nl
X-ALT-DESC;FMTTYPE=text/html:<a href='https://www.weespfoto.nl/agenda/item//352887'>https://weespfoto.nl/agenda/item//352887</a> || <p>Hulp nodig thuis, op school of op het werk? Heeft u vragen of zorgen over een beperking of chronische ziekte? Een belangrijk gesprek over regelen van zorg of over aanpassingen aan huis? Dit hoeft u niet alleen te doen. MEE denkt met u mee en is onafhankelijk. Een afspraak maken is niet nodig.</p>
DESCRIPTION:<a href='https://www.weespfoto.nl/agenda/item//352887'>https://www.weespfoto.nl/agenda/item//352887</a> || Hulp nodig thuis, op school of op het werk? Heeft u vragen of zorgen over een beperking of chronische ziekte? Een belangrijk gesprek over regelen van zorg of over aanpassingen aan huis? Dit hoeft u niet alleen te doen. MEE denkt met u mee en is onafhankelijk. Een afspraak maken is niet nodig.
LAST-MODIFIED:20260424T053347Z
LOCATION:Bibliotheek Gooi+ Eemnes Noordersingel 4 3755ez Eemnes
SEQUENCE:0
STATUS:CONFIRMED
SUMMARY:Spreekuur MEE
TRANSP:OPAQUE
END:VEVENT
END:VCALENDAR
