BEGIN:VCALENDAR
PRODID:-//PUBBLE//enter agenda//NL
VERSION:2.0
METHOD:PUBLISH
BEGIN:VEVENT
DTSTART:20250613T170000Z
DTEND:20250613T223000Z
DTSTAMP:20260422T011537Z
UID:76903738-50f8-4180-b8c7-20eb9e4e708c
CREATED:20260422T011537Z
URL:https://www.weespfoto.nl/agenda/item/352929
NAME:Diva Bingo ‘t Gooi weespfoto.nl
X-WR-CALNAME:Diva Bingo ‘t Gooi weespfoto.nl
X-ALT-DESC;FMTTYPE=text/html:<a href='https://www.weespfoto.nl/agenda/item//352929'>https://weespfoto.nl/agenda/item//352929</a> || <p>Vrijdag 13 juni 2025 is het weer tijd voor Diva Bingo’t Gooi - Pool Party.</p><p>Met o.a. de volgende luxe prijzen: Moët, Ted Baker, Nikkie, Rituals, Victoria’s Secret, Kiko, My Jewellery en meer!</p><p>Bestel nu je tickets via 06 23 1987 78 of via de link&nbsp;</p><p>Liefs, Diva Bingo ‘t Gooi 🎀</p>
DESCRIPTION:<a href='https://www.weespfoto.nl/agenda/item//352929'>https://www.weespfoto.nl/agenda/item//352929</a> || Vrijdag 13 juni 2025 is het weer tijd voor Diva Bingo’t Gooi - Pool Party.Met o.a. de volgende luxe prijzen: Moët, Ted Baker, Nikkie, Rituals, Victoria’s Secret, Kiko, My Jewellery en meer!Bestel nu je tickets via 06 23 1987 78 of via de link Liefs, Diva Bingo ‘t Gooi 🎀
LAST-MODIFIED:20260422T011537Z
LOCATION:SC 't Gooi Kininelaantje 9 1216bz Hilversum
SEQUENCE:0
STATUS:CONFIRMED
SUMMARY:Diva Bingo ‘t Gooi
TRANSP:OPAQUE
END:VEVENT
END:VCALENDAR
