BEGIN:VCALENDAR
PRODID:-//PUBBLE//enter agenda//NL
VERSION:2.0
METHOD:PUBLISH
BEGIN:VEVENT
DTSTART:20250409T180000Z
DTEND:20250409T200000Z
DTSTAMP:20260424T131751Z
UID:8af65236-a2e6-45ce-b3b3-8993f4499f66
CREATED:20260424T131751Z
URL:https://www.weespfoto.nl/agenda/item/353097
NAME:Lezing Sterrenwacht weespfoto.nl
X-WR-CALNAME:Lezing Sterrenwacht weespfoto.nl
X-ALT-DESC;FMTTYPE=text/html:<a href='https://www.weespfoto.nl/agenda/item//353097'>https://weespfoto.nl/agenda/item//353097</a> || <p>Sterrenwacht ‘s Graveland - Lezing - ‘Het Heelal in een notendop’&nbsp;</p><p>Wim van Driel, emeritus-astronoom verbonden aan het Observatoire de Paris, neemt u mee op een excursie door ruimte en tijd, langs planeten, sterren en melkwegstelsels, tot aan de grenzen van het universum.</p><p>Entree €10</p>
DESCRIPTION:<a href='https://www.weespfoto.nl/agenda/item//353097'>https://www.weespfoto.nl/agenda/item//353097</a> || Sterrenwacht ‘s Graveland - Lezing - ‘Het Heelal in een notendop’ Wim van Driel, emeritus-astronoom verbonden aan het Observatoire de Paris, neemt u mee op een excursie door ruimte en tijd, langs planeten, sterren en melkwegstelsels, tot aan de grenzen van het universum.Entree €10
LAST-MODIFIED:20260424T131751Z
LOCATION:De Engel-Vrijzinnig Huizen César Francklaan 13 1272ec Huizen
SEQUENCE:0
STATUS:CONFIRMED
SUMMARY:Lezing Sterrenwacht
TRANSP:OPAQUE
END:VEVENT
END:VCALENDAR
