BEGIN:VCALENDAR
PRODID:-//PUBBLE//enter agenda//NL
VERSION:2.0
METHOD:PUBLISH
BEGIN:VEVENT
DTSTART:20250408T170000Z
DTEND:20250408T192500Z
DTSTAMP:20260424T070527Z
UID:2c567417-de4d-4978-a1c0-6ec382dc8865
CREATED:20260424T070527Z
URL:https://www.weespfoto.nl/agenda/item/353179
NAME:Amnesty Filmavond weespfoto.nl
X-WR-CALNAME:Amnesty Filmavond weespfoto.nl
X-ALT-DESC;FMTTYPE=text/html:<a href='https://www.weespfoto.nl/agenda/item//353179'>https://weespfoto.nl/agenda/item//353179</a> || <p>Namens Movies that Matter en lokale Amnesty Internationalgroep draait in Filmtheater maandelijks een film over mensenrechten. Ditmaal “The Promise”. Met geschiedenis van West-Papua in de hoofdrol. Beeld van hoe kolonialisme plaatsmaakte voor neokolonialisme. Nagesprek met regisseur Daan Veldhuizen.</p>
DESCRIPTION:<a href='https://www.weespfoto.nl/agenda/item//353179'>https://www.weespfoto.nl/agenda/item//353179</a> || Namens Movies that Matter en lokale Amnesty Internationalgroep draait in Filmtheater maandelijks een film over mensenrechten. Ditmaal “The Promise”. Met geschiedenis van West-Papua in de hoofdrol. Beeld van hoe kolonialisme plaatsmaakte voor neokolonialisme. Nagesprek met regisseur Daan Veldhuizen.
LAST-MODIFIED:20260424T070527Z
LOCATION:Filmtheater Hilversum Herenplein 5 1211dr Hilversum
SEQUENCE:0
STATUS:CONFIRMED
SUMMARY:Amnesty Filmavond
TRANSP:OPAQUE
END:VEVENT
END:VCALENDAR
