BEGIN:VCALENDAR
PRODID:-//PUBBLE//enter agenda//NL
VERSION:2.0
METHOD:PUBLISH
BEGIN:VEVENT
DTSTART:20250410T080000Z
DTEND:20250410T093000Z
DTSTAMP:20260424T151004Z
UID:d639090e-8248-4efd-b15b-98bfc11c38b6
CREATED:20260424T151004Z
URL:https://www.weespfoto.nl/agenda/item/353225
NAME:Vrijwilligerscentrale weespfoto.nl
X-WR-CALNAME:Vrijwilligerscentrale weespfoto.nl
X-ALT-DESC;FMTTYPE=text/html:<a href='https://www.weespfoto.nl/agenda/item//353225'>https://weespfoto.nl/agenda/item//353225</a> || <p>Wil je vrijwilligerswerk doen of zoek je vrijwilligers? Bezoek dan voor alle informatie het spreekuur van Verse Vrijwillgerscentrale.</p>
DESCRIPTION:<a href='https://www.weespfoto.nl/agenda/item//353225'>https://www.weespfoto.nl/agenda/item//353225</a> || Wil je vrijwilligerswerk doen of zoek je vrijwilligers? Bezoek dan voor alle informatie het spreekuur van Verse Vrijwillgerscentrale.
LAST-MODIFIED:20260424T151004Z
LOCATION:Bibliotheek Gooi + Laren Brink 29 1251kt Laren
SEQUENCE:0
STATUS:CONFIRMED
SUMMARY:Vrijwilligerscentrale
TRANSP:OPAQUE
END:VEVENT
END:VCALENDAR
