BEGIN:VCALENDAR
PRODID:-//PUBBLE//enter agenda//NL
VERSION:2.0
METHOD:PUBLISH
BEGIN:VEVENT
DTSTART:20250612T153000Z
DTEND:20250612T170000Z
DTSTAMP:20260421T130000Z
UID:b891ce4b-8c37-4979-84f1-ac0b9a31acff
CREATED:20260421T130000Z
URL:https://www.weespfoto.nl/agenda/item/354329
NAME:Ratatouille - maaltijd weespfoto.nl
X-WR-CALNAME:Ratatouille - maaltijd weespfoto.nl
X-ALT-DESC;FMTTYPE=text/html:<a href='https://www.weespfoto.nl/agenda/item//354329'>https://weespfoto.nl/agenda/item//354329</a> || <p>Wat is er leuker dan samen eten als je normaal alleen achter je bordje zit? Kom en geniet van een heerlijk driegangen diner.</p><p>Ratatouille is een initiatief van Gooisch Verband.</p>
DESCRIPTION:<a href='https://www.weespfoto.nl/agenda/item//354329'>https://www.weespfoto.nl/agenda/item//354329</a> || Wat is er leuker dan samen eten als je normaal alleen achter je bordje zit? Kom en geniet van een heerlijk driegangen diner.Ratatouille is een initiatief van Gooisch Verband.
LAST-MODIFIED:20260421T130000Z
LOCATION:Huiskamer van de Buurt Leger des Heils Bussummerstraat 27a/b 1211bh Hilversum
SEQUENCE:0
STATUS:CONFIRMED
SUMMARY:Ratatouille - maaltijd
TRANSP:OPAQUE
END:VEVENT
END:VCALENDAR
