BEGIN:VCALENDAR
PRODID:-//PUBBLE//enter agenda//NL
VERSION:2.0
METHOD:PUBLISH
BEGIN:VEVENT
DTSTART:20250613T120000Z
DTEND:20250613T133000Z
DTSTAMP:20260421T221021Z
UID:4d458bb2-84f2-4696-8f98-ef7ec82a5b7a
CREATED:20260421T221021Z
URL:https://www.weespfoto.nl/agenda/item/354588
NAME:Architectuurwandeling weespfoto.nl
X-WR-CALNAME:Architectuurwandeling weespfoto.nl
X-ALT-DESC;FMTTYPE=text/html:<a href='https://www.weespfoto.nl/agenda/item//354588'>https://weespfoto.nl/agenda/item//354588</a> || <p>In de wijk Over het Spoor is niets wat het lijkt. Deze wijk, die in het begin van de 20e eeuw het hart vormde van het industriële Hilversum, is door de jaren heen uitgebreid, gerenoveerd, gesloopt, gemoderniseerd, getransformeerd en soms hetzelfde gebleven.</p>
DESCRIPTION:<a href='https://www.weespfoto.nl/agenda/item//354588'>https://www.weespfoto.nl/agenda/item//354588</a> || In de wijk Over het Spoor is niets wat het lijkt. Deze wijk, die in het begin van de 20e eeuw het hart vormde van het industriële Hilversum, is door de jaren heen uitgebreid, gerenoveerd, gesloopt, gemoderniseerd, getransformeerd en soms hetzelfde gebleven.
LAST-MODIFIED:20260421T221021Z
LOCATION:Dudok Architectuur Centrum Dudokpark 1 1217JE Hilversum
SEQUENCE:0
STATUS:CONFIRMED
SUMMARY:Architectuurwandeling
TRANSP:OPAQUE
END:VEVENT
END:VCALENDAR
