BEGIN:VCALENDAR
PRODID:-//PUBBLE//enter agenda//NL
VERSION:2.0
METHOD:PUBLISH
BEGIN:VEVENT
DTSTART:20250612T080000Z
DTEND:20250612T143000Z
DTSTAMP:20260421T095648Z
UID:6db090d1-eca1-4322-b213-2e83a4efa9e4
CREATED:20260421T095648Z
URL:https://www.weespfoto.nl/agenda/item/354792
NAME:PlusBus Weesp weespfoto.nl
X-WR-CALNAME:PlusBus Weesp weespfoto.nl
X-ALT-DESC;FMTTYPE=text/html:<a href='https://www.weespfoto.nl/agenda/item//354792'>https://weespfoto.nl/agenda/item//354792</a> || <p>Lunch bij Zoomers-Castricum aan Zee&nbsp;</p><p>Deze dag maken we eerst een mooie route voor we gaan lunchen bij Zoomers in Castricum. Voor wie wil is er gelegenheid om even pootje &nbsp;te baden , hoeft niet maar mag wel dus handdoek mee!</p><p>info ma en vr tussen 10-12 uur op 0294-410639.</p>
DESCRIPTION:<a href='https://www.weespfoto.nl/agenda/item//354792'>https://www.weespfoto.nl/agenda/item//354792</a> || Lunch bij Zoomers-Castricum aan Zee Deze dag maken we eerst een mooie route voor we gaan lunchen bij Zoomers in Castricum. Voor wie wil is er gelegenheid om even pootje  te baden , hoeft niet maar mag wel dus handdoek mee!info ma en vr tussen 10-12 uur op 0294-410639.
LAST-MODIFIED:20260421T095648Z
LOCATION:Thuis ophalen xx xx XXXX Weesp
SEQUENCE:0
STATUS:CONFIRMED
SUMMARY:PlusBus Weesp
TRANSP:OPAQUE
END:VEVENT
END:VCALENDAR
